BEGIN:VCALENDAR
VERSION:2.0
PRODID:-//ChamberMaster//Event Calendar 2.0//EN
METHOD:PUBLISH
X-PUBLISHED-TTL:P1H
REFRESH-INTERVAL:P1H
CALSCALE:GREGORIAN
BEGIN:VTIMEZONE
TZID:America/Chicago
BEGIN:DAYLIGHT
RRULE:FREQ=YEARLY;BYMONTH=3;BYDAY=2SU
DTSTART:20070101T000000
TZOFFSETFROM:-0600
TZOFFSETTO:-0500
TZNAME:Central Daylight Time
END:DAYLIGHT
BEGIN:STANDARD
RRULE:FREQ=YEARLY;BYMONTH=11;BYDAY=1SU
DTSTART:20070101T000000
TZOFFSETFROM:-0500
TZOFFSETTO:-0600
TZNAME:Central Standard Time
END:STANDARD
END:VTIMEZONE
BEGIN:VEVENT
DTSTART;TZID=America/Chicago:20260414T183000
DTEND;TZID=America/Chicago:20260415T203000
X-MICROSOFT-CDO-ALLDAYEVENT:FALSE
SUMMARY:The Becoming Circle – April Gathering
DESCRIPTION:The Becoming Circle is a small gathering designed to create space for thoughtful conversation\, reflection\, and intentional direction as life moves into a new season. In a world that often moves quickly\, this evening offers the opportunity to slow down\, step back\, and explore the bigger questions about where you are and where life may be inviting you next. Through guided reflection and open conversation\, participants will connect with others who value meaningful dialogue and personal growth. The gathering is intentionally small to encourage genuine conversation and insight. Whether you come with clear goals or simply curiosity\, you'll find a welcoming space for reflection and connection. This April gathering will take place at the historic Kitchi Gammi Club in Duluth. More details and registration are available here: www.drlarahill.com/events
X-ALT-DESC;FMTTYPE=text/html:<!DOCTYPE html><html><head><title></title></head><body aria-disabled="false"><p>The Becoming Circle is a small gathering designed to create space for thoughtful conversation\, reflection\, and intentional direction as life moves into a new season. In a world that often moves quickly\, this evening offers the opportunity to slow down\, step back\, and explore the bigger questions about where you are and where life may be inviting you next. Through guided reflection and open conversation\, participants will connect with others who value meaningful dialogue and personal growth. The gathering is intentionally small to encourage genuine conversation and insight. Whether you come with clear goals or simply curiosity\, you&rsquo\;ll find a welcoming space for reflection and connection. This April gathering will take place at the historic Kitchi Gammi Club in Duluth. More details and registration are available here: www.drlarahill.com/events</p></body></html>
LOCATION:831 East Superior Street Duluth MN 55802
UID:e.2089.1441334
SEQUENCE:3
DTSTAMP:20260421T100814Z
URL:https://members.hermantownchamber.com/events/Details/the-becoming-circle-april-gathering-1707069?sourceTypeId=Hub
END:VEVENT
END:VCALENDAR
