BEGIN:VCALENDAR
VERSION:2.0
PRODID:-//ChamberMaster//Event Calendar 2.0//EN
METHOD:PUBLISH
X-PUBLISHED-TTL:P1H
REFRESH-INTERVAL:P1H
CALSCALE:GREGORIAN
BEGIN:VTIMEZONE
TZID:America/Chicago
BEGIN:DAYLIGHT
RRULE:FREQ=YEARLY;BYMONTH=3;BYDAY=2SU
DTSTART:20070101T000000
TZOFFSETFROM:-0600
TZOFFSETTO:-0500
TZNAME:Central Daylight Time
END:DAYLIGHT
BEGIN:STANDARD
RRULE:FREQ=YEARLY;BYMONTH=11;BYDAY=1SU
DTSTART:20070101T000000
TZOFFSETFROM:-0500
TZOFFSETTO:-0600
TZNAME:Central Standard Time
END:STANDARD
END:VTIMEZONE
BEGIN:VEVENT
DTSTART;TZID=America/Chicago:20260507T100000
DTEND;TZID=America/Chicago:20260507T110000
X-MICROSOFT-CDO-ALLDAYEVENT:FALSE
SUMMARY:Northland Small Business Development Center - Paid Leave & the Seasonal Hospitality Designation Webinar
DESCRIPTION:Minnesota's new paid family and medical leave program is here   and you may have real questions for seasonal businesses like yours. Whether you may qualify for a seasonal designation or are looking to understand what Paid Leave means for your team\, this workshop will help you see the full picture: the requirements\, the benefits\, and the opportunities for both you and your employees. Join us to understand where you stand\, what the benefits mean for you and your team\, and how to move forward with confidence. \nWhat We'll Cover      How the seasonal designation works   and how to qualify      The gross receipts test: what "3x in 6 months" means for your business      Application requirements and the designation approval process      Quarterly employment reporting obligations      Which employees are covered   and which may not be      Year-round employees & roles that fall outside the exemption (e.g.\, groundskeepers)      The benefits of the law for you and your employees      Common mistakes that cost businesses the exemption      Live Q&A with a small business advisor \nThis workshop is designed for: Owners & operators of resorts & lodges\, restaurants\, food trucks\, concession stands throughout Minnesota.\nRegister Here!
X-ALT-DESC;FMTTYPE=text/html:<!DOCTYPE html><html><head><title></title></head><body aria-disabled="false" data-gr-ext-installed="" data-new-gr-c-s-check-loaded="14.1136.0" data-new-gr-c-s-loaded="14.1136.0" spellcheck="false"><p style="text-align: center\;"><span style="color: rgb(0\, 0\, 0)\;"><span style="font-family: Arial\, Helvetica\, sans-serif\; font-size: 18px\; font-style: normal\; font-variant-ligatures: normal\; font-variant-caps: normal\; font-weight: 400\; letter-spacing: normal\; orphans: 2\; text-align: start\; text-indent: 0px\; text-transform: none\; widows: 2\; word-spacing: 0px\; -webkit-text-stroke-width: 0px\; white-space: pre-wrap\; background-color: rgb(255\, 255\, 255)\; text-decoration-thickness: initial\; text-decoration-style: initial\; text-decoration-color: initial\; float: none\; display: inline !important\;">Minnesota&rsquo\;s new paid family and medical leave program is here &mdash\; and you may have real questions for seasonal businesses like yours. Whether you may qualify for a seasonal designation or are looking to understand what Paid Leave means for your team\, this workshop will help you see the full picture: the requirements\, the benefits\, and the opportunities for both you and your employees.&nbsp\;</span></span></p><p style="text-align: center\;"><span style="color: rgb(0\, 0\, 0)\;"><span style="font-family: Arial\,Helvetica\,sans-serif\;"><span style="font-size: 18px\; font-style: normal\; font-variant-ligatures: normal\; font-variant-caps: normal\; font-weight: 400\; letter-spacing: normal\; orphans: 2\; text-align: start\; text-indent: 0px\; text-transform: none\; widows: 2\; word-spacing: 0px\; -webkit-text-stroke-width: 0px\; white-space: pre-wrap\; background-color: rgb(255\, 255\, 255)\; text-decoration-thickness: initial\; text-decoration-style: initial\; text-decoration-color: initial\; float: none\; display: inline !important\;">Join us to understand where you stand\, what the benefits mean for you and your team\, and how to move forward with confidence. </span></span></span></p><p><span style="color: rgb(0\, 0\, 0)\;"><span style="font-family: Arial\,Helvetica\,sans-serif\;"><br></span></span></p><p><span style="color: rgb(0\, 0\, 0)\;"><span style="font-family: Arial\,Helvetica\,sans-serif\;"><span style="font-size: 18px\; font-style: normal\; font-variant-ligatures: normal\; font-variant-caps: normal\; font-weight: 400\; letter-spacing: normal\; orphans: 2\; text-align: start\; text-indent: 0px\; text-transform: none\; widows: 2\; word-spacing: 0px\; -webkit-text-stroke-width: 0px\; white-space: pre-wrap\; background-color: rgb(255\, 255\, 255)\; text-decoration-thickness: initial\; text-decoration-style: initial\; text-decoration-color: initial\; float: none\; display: inline !important\;">What We&rsquo\;ll Cover&nbsp\;</span></span></span></p><p><span style="color: rgb(0\, 0\, 0)\;"><span style="font-family: Arial\,Helvetica\,sans-serif\;"><span style="font-size: 18px\; font-style: normal\; font-variant-ligatures: normal\; font-variant-caps: normal\; font-weight: 400\; letter-spacing: normal\; orphans: 2\; text-align: start\; text-indent: 0px\; text-transform: none\; widows: 2\; word-spacing: 0px\; -webkit-text-stroke-width: 0px\; white-space: pre-wrap\; background-color: rgb(255\, 255\, 255)\; text-decoration-thickness: initial\; text-decoration-style: initial\; text-decoration-color: initial\; float: none\; display: inline !important\;">&bull\; &nbsp\; &nbsp\;How the seasonal designation works &mdash\; and how to qualify&nbsp\;</span></span></span></p><p><span style="color: rgb(0\, 0\, 0)\;"><span style="font-family: Arial\,Helvetica\,sans-serif\;"><span style="font-size: 18px\; font-style: normal\; font-variant-ligatures: normal\; font-variant-caps: normal\; font-weight: 400\; letter-spacing: normal\; orphans: 2\; text-align: start\; text-indent: 0px\; text-transform: none\; widows: 2\; word-spacing: 0px\; -webkit-text-stroke-width: 0px\; white-space: pre-wrap\; background-color: rgb(255\, 255\, 255)\; text-decoration-thickness: initial\; text-decoration-style: initial\; text-decoration-color: initial\; float: none\; display: inline !important\;">&bull\; &nbsp\; &nbsp\;The gross receipts test: what &ldquo\;3x in 6 months&rdquo\; means for your business&nbsp\;</span></span></span></p><p><span style="color: rgb(0\, 0\, 0)\;"><span style="font-family: Arial\,Helvetica\,sans-serif\;"><span style="font-size: 18px\; font-style: normal\; font-variant-ligatures: normal\; font-variant-caps: normal\; font-weight: 400\; letter-spacing: normal\; orphans: 2\; text-align: start\; text-indent: 0px\; text-transform: none\; widows: 2\; word-spacing: 0px\; -webkit-text-stroke-width: 0px\; white-space: pre-wrap\; background-color: rgb(255\, 255\, 255)\; text-decoration-thickness: initial\; text-decoration-style: initial\; text-decoration-color: initial\; float: none\; display: inline !important\;">&bull\; &nbsp\; &nbsp\;Application requirements and the designation approval process&nbsp\;</span></span></span></p><p><span style="color: rgb(0\, 0\, 0)\;"><span style="font-family: Arial\,Helvetica\,sans-serif\;"><span style="font-size: 18px\; font-style: normal\; font-variant-ligatures: normal\; font-variant-caps: normal\; font-weight: 400\; letter-spacing: normal\; orphans: 2\; text-align: start\; text-indent: 0px\; text-transform: none\; widows: 2\; word-spacing: 0px\; -webkit-text-stroke-width: 0px\; white-space: pre-wrap\; background-color: rgb(255\, 255\, 255)\; text-decoration-thickness: initial\; text-decoration-style: initial\; text-decoration-color: initial\; float: none\; display: inline !important\;">&bull\; &nbsp\; &nbsp\;Quarterly employment reporting obligations&nbsp\;</span></span></span></p><p><span style="color: rgb(0\, 0\, 0)\;"><span style="font-family: Arial\,Helvetica\,sans-serif\;"><span style="font-size: 18px\; font-style: normal\; font-variant-ligatures: normal\; font-variant-caps: normal\; font-weight: 400\; letter-spacing: normal\; orphans: 2\; text-align: start\; text-indent: 0px\; text-transform: none\; widows: 2\; word-spacing: 0px\; -webkit-text-stroke-width: 0px\; white-space: pre-wrap\; background-color: rgb(255\, 255\, 255)\; text-decoration-thickness: initial\; text-decoration-style: initial\; text-decoration-color: initial\; float: none\; display: inline !important\;">&bull\; &nbsp\; &nbsp\;Which employees are covered &mdash\; and which may not be&nbsp\;</span></span></span></p><p><span style="color: rgb(0\, 0\, 0)\;"><span style="font-family: Arial\,Helvetica\,sans-serif\;"><span style="font-size: 18px\; font-style: normal\; font-variant-ligatures: normal\; font-variant-caps: normal\; font-weight: 400\; letter-spacing: normal\; orphans: 2\; text-align: start\; text-indent: 0px\; text-transform: none\; widows: 2\; word-spacing: 0px\; -webkit-text-stroke-width: 0px\; white-space: pre-wrap\; background-color: rgb(255\, 255\, 255)\; text-decoration-thickness: initial\; text-decoration-style: initial\; text-decoration-color: initial\; float: none\; display: inline !important\;">&bull\; &nbsp\; &nbsp\;Year-round employees &amp\; roles that fall outside the exemption (e.g.\, groundskeepers)&nbsp\;</span></span></span></p><p><span style="color: rgb(0\, 0\, 0)\;"><span style="font-family: Arial\,Helvetica\,sans-serif\;"><span style="font-size: 18px\; font-style: normal\; font-variant-ligatures: normal\; font-variant-caps: normal\; font-weight: 400\; letter-spacing: normal\; orphans: 2\; text-align: start\; text-indent: 0px\; text-transform: none\; widows: 2\; word-spacing: 0px\; -webkit-text-stroke-width: 0px\; white-space: pre-wrap\; background-color: rgb(255\, 255\, 255)\; text-decoration-thickness: initial\; text-decoration-style: initial\; text-decoration-color: initial\; float: none\; display: inline !important\;">&bull\; &nbsp\; &nbsp\;The benefits of the law for you and your employees&nbsp\;</span></span></span></p><p><span style="color: rgb(0\, 0\, 0)\;"><span style="font-family: Arial\,Helvetica\,sans-serif\;"><span style="font-size: 18px\; font-style: normal\; font-variant-ligatures: normal\; font-variant-caps: normal\; font-weight: 400\; letter-spacing: normal\; orphans: 2\; text-align: start\; text-indent: 0px\; text-transform: none\; widows: 2\; word-spacing: 0px\; -webkit-text-stroke-width: 0px\; white-space: pre-wrap\; background-color: rgb(255\, 255\, 255)\; text-decoration-thickness: initial\; text-decoration-style: initial\; text-decoration-color: initial\; float: none\; display: inline !important\;">&bull\; &nbsp\; &nbsp\;Common mistakes that cost businesses the exemption&nbsp\;</span></span></span></p><p><span style="color: rgb(0\, 0\, 0)\;"><span style="font-family: Arial\,Helvetica\,sans-serif\;"><span style="font-size: 18px\; font-style: normal\; font-variant-ligatures: normal\; font-variant-caps: normal\; font-weight: 400\; letter-spacing: normal\; orphans: 2\; text-align: start\; text-indent: 0px\; text-transform: none\; widows: 2\; word-spacing: 0px\; -webkit-text-stroke-width: 0px\; white-space: pre-wrap\; background-color: rgb(255\, 255\, 255)\; text-decoration-thickness: initial\; text-decoration-style: initial\; text-decoration-color: initial\; float: none\; display: inline !important\;">&bull\; &nbsp\; &nbsp\;Live Q&amp\;A with a small business advisor&nbsp\;</span></span></span></p><p><span style="color: rgb(0\, 0\, 0)\;"><span style="font-family: Arial\,Helvetica\,sans-serif\;"><br></span></span></p><p><span style="color: rgb(0\, 0\, 0)\;"><span style="font-family: Arial\,Helvetica\,sans-serif\;"><span style="font-size: 18px\; font-style: normal\; font-variant-ligatures: normal\; font-variant-caps: normal\; font-weight: 400\; letter-spacing: normal\; orphans: 2\; text-align: start\; text-indent: 0px\; text-transform: none\; widows: 2\; word-spacing: 0px\; -webkit-text-stroke-width: 0px\; white-space: pre-wrap\; background-color: rgb(255\, 255\, 255)\; text-decoration-thickness: initial\; text-decoration-style: initial\; text-decoration-color: initial\; float: none\; display: inline !important\;">This workshop is designed for: Owners &amp\; operators of resorts &amp\; lodges\, restaurants\, food trucks\, concession stands throughout Minnesota.</span></span></span></p><p><span style="color: rgb(0\, 0\, 0)\;"><span style="font-family: Arial\,Helvetica\,sans-serif\;"><br></span></span></p><p style="text-align: center\;"><a fr-original-style="" href="https://us06web.zoom.us/webinar/register/WN_KBnzScveQuqxtWDMLzj-Ow#/registration" rel="noopener noreferrer" style="user-select: auto\;" target="_blank"><span style="color: rgb(0\, 0\, 0)\;"><span style="font-family: Arial\, Helvetica\, sans-serif\; font-size: 24px\; font-style: normal\; font-variant-ligatures: normal\; font-variant-caps: normal\; font-weight: 400\; letter-spacing: normal\; orphans: 2\; text-align: start\; text-indent: 0px\; text-transform: none\; widows: 2\; word-spacing: 0px\; -webkit-text-stroke-width: 0px\; white-space: pre-wrap\; background-color: rgb(255\, 255\, 255)\; text-decoration-thickness: initial\; text-decoration-style: initial\; text-decoration-color: initial\; float: none\; display: inline !important\;"><strong fr-original-style="" style="font-weight: 700\;"><u>Register Here!</u></strong></span></span></a></p></body></html>
LOCATION:
UID:e.2089.1449546
SEQUENCE:3
DTSTAMP:20260424T022700Z
URL:https://members.hermantownchamber.com/events/Details/northland-small-business-development-center-paid-leave-the-seasonal-hospitality-designation-webinar-1716995?sourceTypeId=Hub
END:VEVENT
END:VCALENDAR
